BEGIN:VCALENDAR
VERSION:2.0
PRODID:-//山形市市民活動支援センター - ECPv4.6.24.1//NONSGML v1.0//EN
CALSCALE:GREGORIAN
METHOD:PUBLISH
X-WR-CALNAME:山形市市民活動支援センター
X-ORIGINAL-URL:https://www.yamagata-npo.jp
X-WR-CALDESC:Events for 山形市市民活動支援センター
BEGIN:VEVENT
DTSTART;TZID=Asia/Tokyo:20211207T190000
DTEND;TZID=Asia/Tokyo:20211207T201000
DTSTAMP:20260420T113606
CREATED:20211127T054837Z
LAST-MODIFIED:20211127T055208Z
UID:26816-1638903600-1638907800@www.yamagata-npo.jp
SUMMARY:ＳＤＧｓを学ぼう ＳＤＧｓの基本＋高知で実践するＮＰＯの活動紹介
DESCRIPTION:チラシのダウンロードはこちらから（PDF) \n
URL:https://www.yamagata-npo.jp/event/26816
LOCATION:（オンライン開催）
CATEGORIES:団体主催
ATTACH;FMTTYPE=image/jpeg:https://www.yamagata-npo.jp/wp/wp-content/uploads/R3.12.7_SDGs_kouchi.jpg
ORGANIZER;CN="%E9%AB%98%E7%9F%A5%E7%9C%8C%E3%83%9C%E3%83%A9%E3%83%B3%E3%83%86%E3%82%A3%E3%82%A2%E3%83%BB%EF%BC%AE%EF%BC%B0%EF%BC%AF%E3%82%BB%E3%83%B3%E3%82%BF%E3%83%BC":MAILTO:kvnc@pippikochi.or.jp
END:VEVENT
END:VCALENDAR