BEGIN:VCALENDAR
VERSION:2.0
PRODID:-//山形市市民活動支援センター - ECPv4.6.24.1//NONSGML v1.0//EN
CALSCALE:GREGORIAN
METHOD:PUBLISH
X-WR-CALNAME:山形市市民活動支援センター
X-ORIGINAL-URL:https://www.yamagata-npo.jp
X-WR-CALDESC:Events for 山形市市民活動支援センター
BEGIN:VEVENT
DTSTART;TZID=Asia/Tokyo:20220122T100000
DTEND;TZID=Asia/Tokyo:20220122T120000
DTSTAMP:20260420T161306
CREATED:20211201T101228Z
LAST-MODIFIED:20211201T101228Z
UID:26829-1642845600-1642852800@www.yamagata-npo.jp
SUMMARY:ジェンダーカード体験講座「身近な男女共同参画について話してみよう」
DESCRIPTION:チラシはこちらからダウンロードできます（PDF形式） \n
URL:https://www.yamagata-npo.jp/event/26829
LOCATION:山形県男女共同参画センター　チェリア\, 山形県山形市緑町１丁目２番３６号
CATEGORIES:団体主催
ATTACH;FMTTYPE=image/jpeg:https://www.yamagata-npo.jp/wp/wp-content/uploads/R4.1.22_cherippo.jpeg
ORGANIZER;CN="%E3%81%A1%E3%81%87%E3%82%8A%E3%81%A3%E3%81%BD%EF%BC%88%E5%A5%B3%E6%80%A7%EF%BC%9D%E5%81%A5%E5%BA%B7Yamagata%EF%BC%89":MAILTO:cherippo@eneweb.net
END:VEVENT
END:VCALENDAR