BEGIN:VCALENDAR
VERSION:2.0
PRODID:-//山形市市民活動支援センター - ECPv4.6.24.1//NONSGML v1.0//EN
CALSCALE:GREGORIAN
METHOD:PUBLISH
X-WR-CALNAME:山形市市民活動支援センター
X-ORIGINAL-URL:https://www.yamagata-npo.jp
X-WR-CALDESC:Events for 山形市市民活動支援センター
BEGIN:VEVENT
DTSTART;TZID=Asia/Tokyo:20220112T140000
DTEND;TZID=Asia/Tokyo:20220112T160000
DTSTAMP:20260420T083026
CREATED:20211205T032044Z
LAST-MODIFIED:20211205T032044Z
UID:26864-1641996000-1642003200@www.yamagata-npo.jp
SUMMARY:第4回　 哲学カフェ　Salon de Yamagata
DESCRIPTION:第4回哲学カフェチラシpdf  \n第4回のテーマは「本当と嘘」です。\nどなたでもご参加いただけます。\n新たな年を迎えるにあたり、自分の中の「本当と嘘」を見極めてみてはいかがでしょうか？ \nチラシはこちらからダウンロードできます（PDF） \n
URL:https://www.yamagata-npo.jp/event/26864
LOCATION:山形市市民活動支援センター　ふらっと＋B会議室\, 山形市城南町1-1-1\, 山形市\, 山形県\, 990-8580\, 日本
CATEGORIES:センター主催
ATTACH;FMTTYPE=image/jpeg:https://www.yamagata-npo.jp/wp/wp-content/uploads/be96aaa638554f9723ea34705a86dab2.jpg
END:VEVENT
END:VCALENDAR