BEGIN:VCALENDAR
VERSION:2.0
PRODID:-//山形市市民活動支援センター - ECPv4.6.24.1//NONSGML v1.0//EN
CALSCALE:GREGORIAN
METHOD:PUBLISH
X-WR-CALNAME:山形市市民活動支援センター
X-ORIGINAL-URL:https://www.yamagata-npo.jp
X-WR-CALDESC:Events for 山形市市民活動支援センター
BEGIN:VEVENT
DTSTART;TZID=Asia/Tokyo:20220123T140000
DTEND;TZID=Asia/Tokyo:20220123T160000
DTSTAMP:20260420T094213
CREATED:20211207T050509Z
LAST-MODIFIED:20211207T050509Z
UID:26889-1642946400-1642953600@www.yamagata-npo.jp
SUMMARY:まなびあテラス市民活動支援講座　グラフィックレコーディングを学んでみよう！
DESCRIPTION: チラシはこちらからダウンロード出来ます（PDF形式） \n
URL:https://www.yamagata-npo.jp/event/26889
LOCATION:まなびあテラス　講座室\, 東根市中央南1-7-3
CATEGORIES:団体主催
ATTACH;FMTTYPE=image/png:https://www.yamagata-npo.jp/wp/wp-content/uploads/20211207131626-1.png
END:VEVENT
END:VCALENDAR