BEGIN:VCALENDAR
VERSION:2.0
PRODID:-//山形市市民活動支援センター - ECPv4.6.24.1//NONSGML v1.0//EN
CALSCALE:GREGORIAN
METHOD:PUBLISH
X-WR-CALNAME:山形市市民活動支援センター
X-ORIGINAL-URL:https://www.yamagata-npo.jp
X-WR-CALDESC:Events for 山形市市民活動支援センター
BEGIN:VEVENT
DTSTART;TZID=Asia/Tokyo:20211211T140000
DTEND;TZID=Asia/Tokyo:20211211T153000
DTSTAMP:20260420T203417
CREATED:20211209T004831Z
LAST-MODIFIED:20211209T004831Z
UID:26901-1639231200-1639236600@www.yamagata-npo.jp
SUMMARY:石原達也「まちの中間支援の仕事と自由と可能性。社会を編集する目線。」
DESCRIPTION:  \n詳細はこちらからご確認ください。 \n【公開講座 : 12/11 (土) 開催】石原達也「まちの中間支援の仕事と自由と可能性。社会を編集する目線。（10代と20代のためのNPOキャンパス第4回授業）」 | Peatix \n
URL:https://www.yamagata-npo.jp/event/26901
LOCATION:（オンライン開催）
CATEGORIES:団体主催
ATTACH;FMTTYPE=image/png:https://www.yamagata-npo.jp/wp/wp-content/uploads/1732bfaf8cab32a21a9bbc6aaf7c109e.png
ORGANIZER;CN="%EF%BC%AE%EF%BC%B0%EF%BC%AF%E6%B3%95%E4%BA%BA%EF%BC%AE%EF%BC%B0%EF%BC%AF%E3%82%B5%E3%83%9D%E3%83%BC%E3%83%88%E3%82%BB%E3%83%B3%E3%82%BF%E3%83%BC":MAILTO:center@npo-sc.org
END:VEVENT
END:VCALENDAR