BEGIN:VCALENDAR
VERSION:2.0
PRODID:-//山形市市民活動支援センター - ECPv4.6.24.1//NONSGML v1.0//EN
CALSCALE:GREGORIAN
METHOD:PUBLISH
X-WR-CALNAME:山形市市民活動支援センター
X-ORIGINAL-URL:https://www.yamagata-npo.jp
X-WR-CALDESC:Events for 山形市市民活動支援センター
BEGIN:VEVENT
DTSTART;TZID=Asia/Tokyo:20220122T140000
DTEND;TZID=Asia/Tokyo:20220122T160000
DTSTAMP:20260420T112055
CREATED:20211211T012030Z
LAST-MODIFIED:20211211T012030Z
UID:26938-1642860000-1642867200@www.yamagata-npo.jp
SUMMARY:ＮＰＯ勉強会 ～ＮＰＯ法人の解散編～
DESCRIPTION:チラシのダウンロード（PDF） \n申込書のダウンロード（PDF・word） \n
URL:https://www.yamagata-npo.jp/event/26938
LOCATION:山形市市民活動支援センター　２３階　高度情報会議室\, 山形市城南町1-1-1　霞城セントラル23階\, 山形市\, 山形県\, 9908580\, 日本
CATEGORIES:センター主催
ATTACH;FMTTYPE=image/jpeg:https://www.yamagata-npo.jp/wp/wp-content/uploads/R4.1.22_NPO_dissolution.jpg
END:VEVENT
END:VCALENDAR