BEGIN:VCALENDAR
VERSION:2.0
PRODID:-//山形市市民活動支援センター - ECPv4.6.24.1//NONSGML v1.0//EN
CALSCALE:GREGORIAN
METHOD:PUBLISH
X-WR-CALNAME:山形市市民活動支援センター
X-ORIGINAL-URL:https://www.yamagata-npo.jp
X-WR-CALDESC:Events for 山形市市民活動支援センター
BEGIN:VEVENT
DTSTART;TZID=Asia/Tokyo:20220115T100000
DTEND;TZID=Asia/Tokyo:20220115T120000
DTSTAMP:20260420T143747
CREATED:20211221T101539Z
LAST-MODIFIED:20211221T101539Z
UID:27009-1642240800-1642248000@www.yamagata-npo.jp
SUMMARY:探究心を育む子育て講座　～問いかけが子どもの好奇心に火をつける！～
DESCRIPTION:チラシのダウンロードはこちらから（PDF） \n
URL:https://www.yamagata-npo.jp/event/27009
LOCATION:山形市男女共同参画センター　ファーラ　５階　視聴覚室\, 山形県山形市城西町２－２－２２　山形市総合福祉センター内\, 山形市\, 山形県\, 9900832\, 日本
CATEGORIES:団体主催
ATTACH;FMTTYPE=image/jpeg:https://www.yamagata-npo.jp/wp/wp-content/uploads/20211221190406.jpeg
ORGANIZER;CN="15YELL%EF%BC%88%E3%81%84%E3%81%A1%E3%81%94%E3%81%88%EF%BD%9E%E3%82%8B%EF%BC%89":MAILTO:15yell.yamagata@gmail.com
END:VEVENT
END:VCALENDAR