BEGIN:VCALENDAR
VERSION:2.0
PRODID:-//山形市市民活動支援センター - ECPv4.6.24.1//NONSGML v1.0//EN
CALSCALE:GREGORIAN
METHOD:PUBLISH
X-WR-CALNAME:山形市市民活動支援センター
X-ORIGINAL-URL:https://www.yamagata-npo.jp
X-WR-CALDESC:Events for 山形市市民活動支援センター
BEGIN:VEVENT
DTSTART;TZID=Asia/Tokyo:20220120T133000
DTEND;TZID=Asia/Tokyo:20220120T153000
DTSTAMP:20260420T173025
CREATED:20211222T053931Z
LAST-MODIFIED:20211222T092349Z
UID:27019-1642685400-1642692600@www.yamagata-npo.jp
SUMMARY:パソコンお悩み相談室（ワード、エクセル等）
DESCRIPTION:※本講座の予約可能な時間帯は１４：３５～１５：３０です。ご了承ください。 \nチラシはこちらからダウンロードできます（PDFデータ） \n申込用紙はこちらからダウンロードできます（Wordデータ） \n
URL:https://www.yamagata-npo.jp/event/27019
LOCATION:山形市市民活動支援センター　ミーティングルーム
CATEGORIES:センター主催
ATTACH;FMTTYPE=image/jpeg:https://www.yamagata-npo.jp/wp/wp-content/uploads/R3.PCsoudan13.jpg
END:VEVENT
END:VCALENDAR