BEGIN:VCALENDAR
VERSION:2.0
PRODID:-//山形市市民活動支援センター - ECPv4.6.24.1//NONSGML v1.0//EN
CALSCALE:GREGORIAN
METHOD:PUBLISH
X-WR-CALNAME:山形市市民活動支援センター
X-ORIGINAL-URL:https://www.yamagata-npo.jp
X-WR-CALDESC:Events for 山形市市民活動支援センター
BEGIN:VEVENT
DTSTART;TZID=Asia/Tokyo:20220114T150000
DTEND;TZID=Asia/Tokyo:20220114T170000
DTSTAMP:20260420T130119
CREATED:20211223T050016Z
LAST-MODIFIED:20211223T050016Z
UID:27063-1642172400-1642179600@www.yamagata-npo.jp
SUMMARY:センターで気軽にボランティア
DESCRIPTION:チラシはこちらからダウンロードできます（PDF） \n\n※原則毎月１４日に開催予定です。\n※休館日や講座によって開催日が変更となる場合がございます。 \n
URL:https://www.yamagata-npo.jp/event/27063
LOCATION:山形市市民活動支援センター　ミーティングコーナー
CATEGORIES:センター主催
ATTACH;FMTTYPE=image/jpeg:https://www.yamagata-npo.jp/wp/wp-content/uploads/R2_volunteer-1-1-1-1-1-1-1-1-1-1.jpg
END:VEVENT
END:VCALENDAR