BEGIN:VCALENDAR
VERSION:2.0
PRODID:-//山形市市民活動支援センター - ECPv4.6.24.1//NONSGML v1.0//EN
CALSCALE:GREGORIAN
METHOD:PUBLISH
X-WR-CALNAME:山形市市民活動支援センター
X-ORIGINAL-URL:https://www.yamagata-npo.jp
X-WR-CALDESC:Events for 山形市市民活動支援センター
BEGIN:VEVENT
DTSTART;TZID=Asia/Tokyo:20220118T150000
DTEND;TZID=Asia/Tokyo:20220118T170000
DTSTAMP:20260420T223748
CREATED:20211223T061323Z
LAST-MODIFIED:20211223T061323Z
UID:27074-1642518000-1642525200@www.yamagata-npo.jp
SUMMARY:NPO組織論の新常識！ケーススタディで学ぶ「ハラスメント防止・対応」実践ゼミ
DESCRIPTION:＜開催日時＞ \n［第1回］1月18日（火）15:00-17:00 ［第2回］2月1日（火）15:00-17:00 ［第3回］2月22日（火）15:00-17:00 \n＜受講料 : 3回セット料金＞ \n・料金プランA（個人受講） : 20\,000円 / 1人（現地参加のみ） \n・料金プランB（団体受講） : 30\,000円 / 1団体（現地参加1名＋オンライン参加3名） \n・料金プランC（聴講生） : 10\,000円 / 1人（オンライン参加のみ） \n＜講師＞塙 創平（りのは綜合法律事務所代表、弁護士、准認定ファンドレイザー） \n▼お申込み、詳細はこちらから \nhttps://npo-sc.org/training/good-business-studio/curriculum/21018/ \n
URL:https://www.yamagata-npo.jp/event/27074
LOCATION:（オンライン開催）
CATEGORIES:団体主催
ATTACH;FMTTYPE=image/png:https://www.yamagata-npo.jp/wp/wp-content/uploads/gbs_21018.png
END:VEVENT
END:VCALENDAR