BEGIN:VCALENDAR
VERSION:2.0
PRODID:-//山形市市民活動支援センター - ECPv4.6.24.1//NONSGML v1.0//EN
CALSCALE:GREGORIAN
METHOD:PUBLISH
X-WR-CALNAME:山形市市民活動支援センター
X-ORIGINAL-URL:https://www.yamagata-npo.jp
X-WR-CALDESC:Events for 山形市市民活動支援センター
BEGIN:VEVENT
DTSTART;TZID=Asia/Tokyo:20220118T120000
DTEND;TZID=Asia/Tokyo:20220201T170000
DTSTAMP:20260420T223716
CREATED:20220118T003419Z
LAST-MODIFIED:20220118T003419Z
UID:27330-1642507200-1643734800@www.yamagata-npo.jp
SUMMARY:～相馬野馬追が繋ぐ、人の思い～
DESCRIPTION:
URL:https://www.yamagata-npo.jp/event/27330
CATEGORIES:センター主催
ATTACH;FMTTYPE=image/jpeg:https://www.yamagata-npo.jp/wp/wp-content/uploads/c2f51182409981981314dc0cc8ec6fa1-e1642465625385.jpg
END:VEVENT
END:VCALENDAR