BEGIN:VCALENDAR
VERSION:2.0
PRODID:-//山形市市民活動支援センター - ECPv4.6.24.1//NONSGML v1.0//EN
CALSCALE:GREGORIAN
METHOD:PUBLISH
X-WR-CALNAME:山形市市民活動支援センター
X-ORIGINAL-URL:https://www.yamagata-npo.jp
X-WR-CALDESC:Events for 山形市市民活動支援センター
BEGIN:VEVENT
DTSTART;TZID=Asia/Tokyo:20220223T133000
DTEND;TZID=Asia/Tokyo:20220223T173000
DTSTAMP:20260422T192928
CREATED:20220122T045019Z
LAST-MODIFIED:20220122T045019Z
UID:27371-1645623000-1645637400@www.yamagata-npo.jp
SUMMARY:ソーシャルビジネスシンポジウム ～「ＮＰＯ×企業×行政 with・ポストコロナ時代に求められる新たな連携・協働とは」～
DESCRIPTION: \nチラシはこちらからダウンロードできます（PDF形式） \n
URL:https://www.yamagata-npo.jp/event/27371
LOCATION:（オンライン開催）
CATEGORIES:団体主催
ATTACH;FMTTYPE=image/jpeg:https://www.yamagata-npo.jp/wp/wp-content/uploads/R4.2.23_JFC_SB_1.jpeg
END:VEVENT
END:VCALENDAR