BEGIN:VCALENDAR
VERSION:2.0
PRODID:-//山形市市民活動支援センター - ECPv4.6.24.1//NONSGML v1.0//EN
CALSCALE:GREGORIAN
METHOD:PUBLISH
X-WR-CALNAME:山形市市民活動支援センター
X-ORIGINAL-URL:https://www.yamagata-npo.jp
X-WR-CALDESC:Events for 山形市市民活動支援センター
BEGIN:VEVENT
DTSTART;TZID=Asia/Tokyo:20220303T133000
DTEND;TZID=Asia/Tokyo:20220303T153000
DTSTAMP:20260422T072437
CREATED:20220202T065312Z
LAST-MODIFIED:20220202T065312Z
UID:27486-1646314200-1646321400@www.yamagata-npo.jp
SUMMARY:緑のふるさとづくりセミナー
DESCRIPTION: \nチラシはこちらからダウンロードできます（PDF形式） \n
URL:https://www.yamagata-npo.jp/event/27486
LOCATION:山形県生涯学習センター　遊学館　2Fホール\, 緑町1丁目２ー２６\, 山形市
CATEGORIES:団体主催
ATTACH;FMTTYPE=image/jpeg:https://www.yamagata-npo.jp/wp/wp-content/uploads/R4.3.3_midori-1.jpeg
ORGANIZER;CN="%EF%BC%88%E5%85%AC%E8%B2%A1%EF%BC%89%E3%82%84%E3%81%BE%E3%81%8C%E3%81%9F%E6%A3%AE%E6%9E%97%E3%81%A8%E7%B7%91%E3%81%AE%E6%8E%A8%E9%80%B2%E6%A9%9F%E6%A7%8B":MAILTO:gcenter@jan.ne.jp
END:VEVENT
END:VCALENDAR