BEGIN:VCALENDAR
VERSION:2.0
PRODID:-//山形市市民活動支援センター - ECPv4.6.24.1//NONSGML v1.0//EN
CALSCALE:GREGORIAN
METHOD:PUBLISH
X-WR-CALNAME:山形市市民活動支援センター
X-ORIGINAL-URL:https://www.yamagata-npo.jp
X-WR-CALDESC:Events for 山形市市民活動支援センター
BEGIN:VEVENT
DTSTART;TZID=Asia/Tokyo:20220309T140000
DTEND;TZID=Asia/Tokyo:20220309T160000
DTSTAMP:20260422T034755
CREATED:20220205T085154Z
LAST-MODIFIED:20220210T082451Z
UID:27535-1646834400-1646841600@www.yamagata-npo.jp
SUMMARY:第６回　 哲学カフェ　Salon de Yamagata
DESCRIPTION:  \n第6回のテーマは「友という存在」です。\nどなたでもご参加いただけます。\n「友」とは一体何なのでしょう。\nあなたの周りには、どんな友達がいるでしょうか？ \n  \nチラシはこちらからダウンロードできます（PDF） \n
URL:https://www.yamagata-npo.jp/event/27535
LOCATION:山形市市民活動支援センター　ふらっと＋B会議室\, 山形市城南町1-1-1\, 山形市\, 山形県\, 990-8580\, 日本
CATEGORIES:センター主催
ATTACH;FMTTYPE=image/jpeg:https://www.yamagata-npo.jp/wp/wp-content/uploads/4b7a7e4a81587a15172c4361115d4ff5.jpg
END:VEVENT
END:VCALENDAR