BEGIN:VCALENDAR
VERSION:2.0
PRODID:-//山形市市民活動支援センター - ECPv4.6.24.1//NONSGML v1.0//EN
CALSCALE:GREGORIAN
METHOD:PUBLISH
X-WR-CALNAME:山形市市民活動支援センター
X-ORIGINAL-URL:https://www.yamagata-npo.jp
X-WR-CALDESC:Events for 山形市市民活動支援センター
BEGIN:VEVENT
DTSTART;TZID=Asia/Tokyo:20220212T140000
DTEND;TZID=Asia/Tokyo:20220212T170000
DTSTAMP:20260422T080346
CREATED:20220208T045243Z
LAST-MODIFIED:20220208T045243Z
UID:27570-1644674400-1644685200@www.yamagata-npo.jp
SUMMARY:【NPOキャンパス第6回授業 : 2/12 (土) 開催】1限目「企業経験を活かしたNPOのかかわり方」・2限目「NPOの運営と戦略づくり」
DESCRIPTION:▼お申込み、詳細はこちらから \nhttps://n-campus.npo-sc.org/ \n
URL:https://www.yamagata-npo.jp/event/27570
LOCATION:（オンライン開催）
CATEGORIES:団体主催
ATTACH;FMTTYPE=image/png:https://www.yamagata-npo.jp/wp/wp-content/uploads/cover-ziSW8TwtS371cVyFDqbjREQtAuuKAmzC.png
END:VEVENT
END:VCALENDAR