BEGIN:VCALENDAR
VERSION:2.0
PRODID:-//山形市市民活動支援センター - ECPv4.6.24.1//NONSGML v1.0//EN
CALSCALE:GREGORIAN
METHOD:PUBLISH
X-WR-CALNAME:山形市市民活動支援センター
X-ORIGINAL-URL:https://www.yamagata-npo.jp
X-WR-CALDESC:Events for 山形市市民活動支援センター
BEGIN:VEVENT
DTSTART;TZID=Asia/Tokyo:20220402T140000
DTEND;TZID=Asia/Tokyo:20220402T160000
DTSTAMP:20260419T161837
CREATED:20220304T065247Z
LAST-MODIFIED:20220304T065247Z
UID:27763-1648908000-1648915200@www.yamagata-npo.jp
SUMMARY:障害・難病あるなし お花見会
DESCRIPTION:チラシはこちらから閲覧できます（PDF形式） \n
URL:https://www.yamagata-npo.jp/event/27763
LOCATION:山形市総合福祉センター ３階 会議研修室2\, 城西町2-2-22\, 山形市\, 山形県\, 9900832\, 日本
CATEGORIES:団体主催
ATTACH;FMTTYPE=image/jpeg:https://www.yamagata-npo.jp/wp/wp-content/uploads/804cb9f3fff097ee2eef874fa7c0d1c1.jpg
ORGANIZER;CN="%E9%9A%9C%E5%AE%B3%E3%81%82%E3%82%8B%E3%81%AA%E3%81%97%E6%84%9B%E5%A5%BD%E4%BC%9A":MAILTO:arunashi-happy@docomo.ne.jp
END:VEVENT
END:VCALENDAR