BEGIN:VCALENDAR
VERSION:2.0
PRODID:-//山形市市民活動支援センター - ECPv4.6.24.1//NONSGML v1.0//EN
CALSCALE:GREGORIAN
METHOD:PUBLISH
X-WR-CALNAME:山形市市民活動支援センター
X-ORIGINAL-URL:https://www.yamagata-npo.jp
X-WR-CALDESC:Events for 山形市市民活動支援センター
BEGIN:VEVENT
DTSTART;TZID=Asia/Tokyo:20220417T100000
DTEND;TZID=Asia/Tokyo:20220417T120000
DTSTAMP:20260420T020001
CREATED:20220323T094445Z
LAST-MODIFIED:20220323T094445Z
UID:27893-1650189600-1650196800@www.yamagata-npo.jp
SUMMARY:野良猫の相談会
DESCRIPTION:  \nこのチラシはこちらからダウンロードできます。（pdf形式） \n
URL:https://www.yamagata-npo.jp/event/27893
LOCATION:山形市市民活動支援センター　会議室B\, 城南町1-1-1　霞城セントラル\, 山形市\, 山形県\, 9908580\, 日本
CATEGORIES:団体主催
ATTACH;FMTTYPE=image/jpeg:https://www.yamagata-npo.jp/wp/wp-content/uploads/a65c3cc25e29d89ab781b4b0a771fe5f.jpg
END:VEVENT
END:VCALENDAR