BEGIN:VCALENDAR
VERSION:2.0
PRODID:-//山形市市民活動支援センター - ECPv4.6.24.1//NONSGML v1.0//EN
CALSCALE:GREGORIAN
METHOD:PUBLISH
X-WR-CALNAME:山形市市民活動支援センター
X-ORIGINAL-URL:https://www.yamagata-npo.jp
X-WR-CALDESC:Events for 山形市市民活動支援センター
BEGIN:VEVENT
DTSTART;TZID=Asia/Tokyo:20220505T100000
DTEND;TZID=Asia/Tokyo:20220505T150000
DTSTAMP:20260420T131126
CREATED:20220323T103446Z
LAST-MODIFIED:20220323T103446Z
UID:27904-1651744800-1651762800@www.yamagata-npo.jp
SUMMARY:一箱古本市＠山形
DESCRIPTION:  \nチラシはこちらからダウンロードできます（PDFデータ） \n
URL:https://www.yamagata-npo.jp/event/27904
LOCATION:東ソーアリーナ\, 蔵王松ヶ丘2-1-3\, 山形市\, 山形県
CATEGORIES:団体主催
ATTACH;FMTTYPE=image/jpeg:https://www.yamagata-npo.jp/wp/wp-content/uploads/20220323191802.jpg
ORGANIZER;CN="%E4%B8%80%E7%AE%B1%E5%8F%A4%E6%9C%AC%E5%B8%82%EF%BC%A0%E5%B1%B1%E5%BD%A2%E5%AE%9F%E8%A1%8C%E5%A7%94%E5%93%A1%E4%BC%9A":MAILTO:185yamagata@gmail.com
END:VEVENT
END:VCALENDAR