BEGIN:VCALENDAR
VERSION:2.0
PRODID:-//山形市市民活動支援センター - ECPv4.6.24.1//NONSGML v1.0//EN
CALSCALE:GREGORIAN
METHOD:PUBLISH
X-WR-CALNAME:山形市市民活動支援センター
X-ORIGINAL-URL:https://www.yamagata-npo.jp
X-WR-CALDESC:Events for 山形市市民活動支援センター
BEGIN:VEVENT
DTSTART;TZID=Asia/Tokyo:20220424T060000
DTEND;TZID=Asia/Tokyo:20220424T080000
DTSTAMP:20260420T083647
CREATED:20220327T080606Z
LAST-MODIFIED:20220327T080606Z
UID:27933-1650780000-1650787200@www.yamagata-npo.jp
SUMMARY:霞城公園月例探鳥会4月
DESCRIPTION:探鳥会の予定はこちらからご覧ください。 \n
URL:https://www.yamagata-npo.jp/event/27933
LOCATION:霞城公園\, 山形県山形市霞城町１−番７号
GEO:38.2547355;140.3282366
X-APPLE-STRUCTURED-LOCATION;VALUE=URI;X-ADDRESS=霞城公園 山形県山形市霞城町１−番７号;X-APPLE-RADIUS=500;X-TITLE=山形県山形市霞城町１−番７号:geo:140.3282366,38.2547355
CATEGORIES:団体主催
END:VEVENT
END:VCALENDAR