BEGIN:VCALENDAR
VERSION:2.0
PRODID:-//山形市市民活動支援センター - ECPv4.6.24.1//NONSGML v1.0//EN
CALSCALE:GREGORIAN
METHOD:PUBLISH
X-WR-CALNAME:山形市市民活動支援センター
X-ORIGINAL-URL:https://www.yamagata-npo.jp
X-WR-CALDESC:Events for 山形市市民活動支援センター
BEGIN:VEVENT
DTSTART;TZID=Asia/Tokyo:20220330T100000
DTEND;TZID=Asia/Tokyo:20220330T130000
DTSTAMP:20260419T145110
CREATED:20220329T054536Z
LAST-MODIFIED:20220329T054536Z
UID:27942-1648634400-1648645200@www.yamagata-npo.jp
SUMMARY:水曜日のぷらいず
DESCRIPTION:\nお休みしていた『すいぷら！』\n再開します！\n\n\nお子さん連れの方も大歓迎です！\n\n\n楽しくお話しませんか？\nぜひお立ち寄りください♪\n\n\n■時　間：１０：００～１３：００\n■会　場：ぷらいず（山形市銅町１－３－３５） \n■申込・お問い合わせ先：\ne-mail:prize.yamagata@gmail.com \n
URL:https://www.yamagata-npo.jp/event/27942
LOCATION:ぷらいず\, 山形市銅町1丁目3-35
CATEGORIES:団体主催
ATTACH;FMTTYPE=image/jpeg:https://www.yamagata-npo.jp/wp/wp-content/uploads/277527882_492408382599068_4978510555385628555_n.jpg
ORGANIZER;CN="%E3%81%B7%E3%82%89%E3%81%84%E3%81%9A":MAILTO:prize.yamagata@gmail.com
END:VEVENT
END:VCALENDAR