BEGIN:VCALENDAR
VERSION:2.0
PRODID:-//山形市市民活動支援センター - ECPv4.6.24.1//NONSGML v1.0//EN
CALSCALE:GREGORIAN
METHOD:PUBLISH
X-WR-CALNAME:山形市市民活動支援センター
X-ORIGINAL-URL:https://www.yamagata-npo.jp
X-WR-CALDESC:Events for 山形市市民活動支援センター
BEGIN:VEVENT
DTSTART;TZID=Asia/Tokyo:20220422T093000
DTEND;TZID=Asia/Tokyo:20220422T120000
DTSTAMP:20260420T083647
CREATED:20220407T045909Z
LAST-MODIFIED:20220416T064036Z
UID:28023-1650619800-1650628800@www.yamagata-npo.jp
SUMMARY:PC講座「ひさしぶりのパソコン」
DESCRIPTION: \nチラシはこちらからダウンロードできます（PDF形式） \n
URL:https://www.yamagata-npo.jp/event/28023
LOCATION:子育てランドあ～べ　研修室\, 山形県山形市七日町1-1-1　N-GATE １階
CATEGORIES:団体主催
ATTACH;FMTTYPE=image/jpeg:https://www.yamagata-npo.jp/wp/wp-content/uploads/04pc.jpg
END:VEVENT
END:VCALENDAR