BEGIN:VCALENDAR
VERSION:2.0
PRODID:-//山形市市民活動支援センター - ECPv4.6.24.1//NONSGML v1.0//EN
CALSCALE:GREGORIAN
METHOD:PUBLISH
X-WR-CALNAME:山形市市民活動支援センター
X-ORIGINAL-URL:https://www.yamagata-npo.jp
X-WR-CALDESC:Events for 山形市市民活動支援センター
BEGIN:VEVENT
DTSTART;TZID=Asia/Tokyo:20220827T100000
DTEND;TZID=Asia/Tokyo:20220827T123000
DTSTAMP:20260420T230442
CREATED:20220426T044811Z
LAST-MODIFIED:20220426T044811Z
UID:28165-1661594400-1661603400@www.yamagata-npo.jp
SUMMARY:チェリア塾 基本コースin庄内　第３回 自分も相手も大切にするコミュニケーション
DESCRIPTION:チラシのダウンロードはこちらから（PDF）\n申し込み締め切り：令和４年６月１５日（水） \n
URL:https://www.yamagata-npo.jp/event/28165
LOCATION:三川町公民館 第１・第２研修室\, 大字横山字西田52-1\, 東田川郡三川町\, 山形県\, 9971301\, 日本
CATEGORIES:団体主催
ATTACH;FMTTYPE=image/jpeg:https://www.yamagata-npo.jp/wp/wp-content/uploads/06251029a.jpg
END:VEVENT
END:VCALENDAR