BEGIN:VCALENDAR
VERSION:2.0
PRODID:-//山形市市民活動支援センター - ECPv4.6.24.1//NONSGML v1.0//EN
CALSCALE:GREGORIAN
METHOD:PUBLISH
X-WR-CALNAME:山形市市民活動支援センター
X-ORIGINAL-URL:https://www.yamagata-npo.jp
X-WR-CALDESC:Events for 山形市市民活動支援センター
BEGIN:VEVENT
DTSTART;TZID=Asia/Tokyo:20220830T140000
DTEND;TZID=Asia/Tokyo:20220830T160000
DTSTAMP:20260420T192840
CREATED:20220428T111408Z
LAST-MODIFIED:20220428T111408Z
UID:28199-1661868000-1661875200@www.yamagata-npo.jp
SUMMARY:女性のためのこころのオンライン相談　集中相談
DESCRIPTION: \nチラシはこちらからダウンロードできます（PDF形式） \n
URL:https://www.yamagata-npo.jp/event/28199
LOCATION:山形県男女共同参画センター　チェリア\, 山形県山形市緑町１丁目２番３６号
CATEGORIES:団体主催
ATTACH;FMTTYPE=image/jpeg:https://www.yamagata-npo.jp/wp/wp-content/uploads/4cf24e4fc80f58fcf8ab08cb3cfd5cb9.jpg
ORGANIZER;CN="%E5%B1%B1%E5%BD%A2%E7%9C%8C%E7%94%B7%E5%A5%B3%E5%85%B1%E5%90%8C%E5%8F%82%E7%94%BB%E3%82%BB%E3%83%B3%E3%82%BF%E3%83%BC%E3%80%80%E3%83%81%E3%82%A7%E3%83%AA%E3%82%A2":MAILTO:cheria1@yamagata-cheria.org
END:VEVENT
END:VCALENDAR