BEGIN:VCALENDAR
VERSION:2.0
PRODID:-//山形市市民活動支援センター - ECPv4.6.24.1//NONSGML v1.0//EN
CALSCALE:GREGORIAN
METHOD:PUBLISH
X-WR-CALNAME:山形市市民活動支援センター
X-ORIGINAL-URL:https://www.yamagata-npo.jp
X-WR-CALDESC:Events for 山形市市民活動支援センター
BEGIN:VEVENT
DTSTART;TZID=Asia/Tokyo:20220529T140000
DTEND;TZID=Asia/Tokyo:20220529T164000
DTSTAMP:20260421T180105
CREATED:20220508T023005Z
LAST-MODIFIED:20220508T023005Z
UID:28235-1653832800-1653842400@www.yamagata-npo.jp
SUMMARY:令和４年度 世界禁煙デー 山形福島合同イベント
DESCRIPTION:お申し込み・詳細はこちら \nチラシはこちらよりダウンロードできます（PDF形式） \n
URL:https://www.yamagata-npo.jp/event/28235
LOCATION:（オンライン開催）
CATEGORIES:団体主催
ATTACH;FMTTYPE=image/png:https://www.yamagata-npo.jp/wp/wp-content/uploads/img_20220415.png
END:VEVENT
END:VCALENDAR