BEGIN:VCALENDAR
VERSION:2.0
PRODID:-//山形市市民活動支援センター - ECPv4.6.24.1//NONSGML v1.0//EN
CALSCALE:GREGORIAN
METHOD:PUBLISH
X-WR-CALNAME:山形市市民活動支援センター
X-ORIGINAL-URL:https://www.yamagata-npo.jp
X-WR-CALDESC:Events for 山形市市民活動支援センター
BEGIN:VEVENT
DTSTART;TZID=Asia/Tokyo:20220518T150000
DTEND;TZID=Asia/Tokyo:20220518T170000
DTSTAMP:20260421T000437
CREATED:20220518T040920Z
LAST-MODIFIED:20220518T040920Z
UID:28357-1652886000-1652893200@www.yamagata-npo.jp
SUMMARY:あなたも「とぴボラ」してみませんか？
DESCRIPTION:チラシはこちらからダウンロードできます（PDF） \n\n※毎月第三水曜日に開催予定です。\n※休館日や講座によって開催日が変更となる場合がございます。 \n
URL:https://www.yamagata-npo.jp/event/28357
LOCATION:山形市市民活動支援センター　ふらっと＋B会議室\, 山形市城南町1-1-1\, 山形市\, 山形県\, 990-8580\, 日本
CATEGORIES:センター主催
ATTACH;FMTTYPE=image/jpeg:https://www.yamagata-npo.jp/wp/wp-content/uploads/f916cc265cd9a95706b3a088a3071429.jpg
END:VEVENT
END:VCALENDAR