BEGIN:VCALENDAR
VERSION:2.0
PRODID:-//山形市市民活動支援センター - ECPv4.6.24.1//NONSGML v1.0//EN
CALSCALE:GREGORIAN
METHOD:PUBLISH
X-WR-CALNAME:山形市市民活動支援センター
X-ORIGINAL-URL:https://www.yamagata-npo.jp
X-WR-CALDESC:Events for 山形市市民活動支援センター
BEGIN:VEVENT
DTSTART;TZID=Asia/Tokyo:20220831T100000
DTEND;TZID=Asia/Tokyo:20220831T120000
DTSTAMP:20260420T210914
CREATED:20220705T025644Z
LAST-MODIFIED:20220705T025644Z
UID:28654-1661940000-1661947200@www.yamagata-npo.jp
SUMMARY:私らしい預け先選びのポイント
DESCRIPTION: \nチラシはこちらからダウンロードできます（PDF形式） \n
URL:https://www.yamagata-npo.jp/event/28654
LOCATION:ハローワークプラザやまがた内　セミナールーム\, 双葉町1-2-3\, 山形市\, 山形県\, 9900828
CATEGORIES:団体主催
ATTACH;FMTTYPE=image/jpeg:https://www.yamagata-npo.jp/wp/wp-content/uploads/hokatu0816-1.jpg
END:VEVENT
END:VCALENDAR