BEGIN:VCALENDAR
VERSION:2.0
PRODID:-//山形市市民活動支援センター - ECPv4.6.24.1//NONSGML v1.0//EN
CALSCALE:GREGORIAN
METHOD:PUBLISH
X-WR-CALNAME:山形市市民活動支援センター
X-ORIGINAL-URL:https://www.yamagata-npo.jp
X-WR-CALDESC:Events for 山形市市民活動支援センター
BEGIN:VEVENT
DTSTART;TZID=Asia/Tokyo:20220813T130000
DTEND;TZID=Asia/Tokyo:20220813T143000
DTSTAMP:20260422T194144
CREATED:20220723T105917Z
LAST-MODIFIED:20220723T105917Z
UID:28826-1660395600-1660401000@www.yamagata-npo.jp
SUMMARY:.NPOを政策提言で支援する仕事 「「10代と20代のためのNPOキャンパス」第12回授業
DESCRIPTION:＜生放送日時＞ \n・8月13日（土）13:00-14:30 \n※生放送時間＋終了直後から2週間以内であれば、映像を何回でも視聴できます。 \n＜内容＞ \n・授業名 : NPOを政策提言で支援する仕事 \n・ゲスト講師 : 関口 宏聡（NPO法人セイエン 代表理事 代表理事） \n＜受講料 : お選びください＞ \n・視聴のみオンライン受講チケット : 無料 \n・NPOキャンパス「 応援チケット A 」: 5\,000円 \n・NPOキャンパス「 応援チケット B 」: 3\,000円 \n・NPOキャンパス「 応援チケット C 」: 1\,500円 \n▼お申込み、詳細はこちらから \nhttps://ncam112.peatix.com/ \n  \n
URL:https://www.yamagata-npo.jp/event/28826
LOCATION:（オンライン開催）
CATEGORIES:団体主催
ATTACH;FMTTYPE=image/png:https://www.yamagata-npo.jp/wp/wp-content/uploads/cover-oo3cRXtcD89TuwuJMEV0zZHp8RgXUBSm.png
END:VEVENT
END:VCALENDAR