BEGIN:VCALENDAR
VERSION:2.0
PRODID:-//山形市市民活動支援センター - ECPv4.6.24.1//NONSGML v1.0//EN
CALSCALE:GREGORIAN
METHOD:PUBLISH
X-WR-CALNAME:山形市市民活動支援センター
X-ORIGINAL-URL:https://www.yamagata-npo.jp
X-WR-CALDESC:Events for 山形市市民活動支援センター
BEGIN:VEVENT
DTSTART;TZID=Asia/Tokyo:20220828T133000
DTEND;TZID=Asia/Tokyo:20220828T150000
DTSTAMP:20260420T114211
CREATED:20220804T054323Z
LAST-MODIFIED:20220804T054323Z
UID:28930-1661693400-1661698800@www.yamagata-npo.jp
SUMMARY:エコ住宅基礎講座
DESCRIPTION: \n \nチラシはこちらからダウンロードできます（PDF形式） \n
URL:https://www.yamagata-npo.jp/event/28930
LOCATION:山形市椹沢コミュニティセンター\, 山形県山形市金石田8-2
CATEGORIES:団体主催
ATTACH;FMTTYPE=image/jpeg:https://www.yamagata-npo.jp/wp/wp-content/uploads/chirashi0828-1.jpg
END:VEVENT
END:VCALENDAR