BEGIN:VCALENDAR
VERSION:2.0
PRODID:-//山形市市民活動支援センター - ECPv4.6.24.1//NONSGML v1.0//EN
CALSCALE:GREGORIAN
METHOD:PUBLISH
X-WR-CALNAME:山形市市民活動支援センター
X-ORIGINAL-URL:https://www.yamagata-npo.jp
X-WR-CALDESC:Events for 山形市市民活動支援センター
BEGIN:VEVENT
DTSTART;TZID=Asia/Tokyo:20220827T133000
DTEND;TZID=Asia/Tokyo:20220827T150000
DTSTAMP:20260420T163030
CREATED:20220812T024036Z
LAST-MODIFIED:20220812T024036Z
UID:28982-1661607000-1661612400@www.yamagata-npo.jp
SUMMARY:かたばみの会カフェでお話しませんか？
DESCRIPTION:チラシはこちらからダウンロードできます（PDF形式） \n
URL:https://www.yamagata-npo.jp/event/28982
LOCATION:山形市男女共同参画センター　５階視聴覚室\, 山形市城西町2-2-22\, 山形市
CATEGORIES:団体主催
ATTACH;FMTTYPE=image/jpeg:https://www.yamagata-npo.jp/wp/wp-content/uploads/20220812113451.jpg
END:VEVENT
END:VCALENDAR