BEGIN:VCALENDAR
VERSION:2.0
PRODID:-//山形市市民活動支援センター - ECPv4.6.24.1//NONSGML v1.0//EN
CALSCALE:GREGORIAN
METHOD:PUBLISH
X-WR-CALNAME:山形市市民活動支援センター
X-ORIGINAL-URL:https://www.yamagata-npo.jp
X-WR-CALDESC:Events for 山形市市民活動支援センター
BEGIN:VEVENT
DTSTART;TZID=Asia/Tokyo:20220827T100000
DTEND;TZID=Asia/Tokyo:20220827T103000
DTSTAMP:20260420T193310
CREATED:20220817T103920Z
LAST-MODIFIED:20220824T082704Z
UID:29039-1661594400-1661596200@www.yamagata-npo.jp
SUMMARY:ぼん！ぼん！盆踊りをおどろう！（10:00～10:30の部）
DESCRIPTION:チラシはこちらからダウンロードできます（PDF） \n
URL:https://www.yamagata-npo.jp/event/29039
LOCATION:べにっこひろば　あそびの大ホール\, 山形市樋越22番地
CATEGORIES:団体主催
ATTACH;FMTTYPE=image/jpeg:https://www.yamagata-npo.jp/wp/wp-content/uploads/20220817191846.jpg
END:VEVENT
END:VCALENDAR