BEGIN:VCALENDAR
VERSION:2.0
PRODID:-//山形市市民活動支援センター - ECPv4.6.24.1//NONSGML v1.0//EN
CALSCALE:GREGORIAN
METHOD:PUBLISH
X-WR-CALNAME:山形市市民活動支援センター
X-ORIGINAL-URL:https://www.yamagata-npo.jp
X-WR-CALDESC:Events for 山形市市民活動支援センター
BEGIN:VEVENT
DTSTART;TZID=Asia/Tokyo:20220827T140000
DTEND;TZID=Asia/Tokyo:20220827T160000
DTSTAMP:20260420T131128
CREATED:20220821T054248Z
LAST-MODIFIED:20220821T054248Z
UID:29107-1661608800-1661616000@www.yamagata-npo.jp
SUMMARY:まなびなおしの読書会
DESCRIPTION: \nチラシはこちらからダウンロードできます（PDF形式） \n
URL:https://www.yamagata-npo.jp/event/29107
LOCATION:at　LOUNGE\, 山形県西村山郡朝日町宮宿1085-10
CATEGORIES:団体主催
ATTACH;FMTTYPE=image/jpeg:https://www.yamagata-npo.jp/wp/wp-content/uploads/688bf3eaca9249cc9ff11ed3a3f96f68-1.jpg
ORGANIZER;CN="%E4%B8%80%E8%88%AC%E7%A4%BE%E5%9B%A3%E6%B3%95%E4%BA%BA%E5%B8%8C%E6%9C%9B%E6%B4%BB%E5%8B%95%E9%86%B8%E6%88%90%E6%A9%9F%E6%A7%8B":MAILTO:info@arousers.org
END:VEVENT
END:VCALENDAR