BEGIN:VCALENDAR
VERSION:2.0
PRODID:-//山形市市民活動支援センター - ECPv4.6.24.1//NONSGML v1.0//EN
CALSCALE:GREGORIAN
METHOD:PUBLISH
X-WR-CALNAME:山形市市民活動支援センター
X-ORIGINAL-URL:https://www.yamagata-npo.jp
X-WR-CALDESC:Events for 山形市市民活動支援センター
BEGIN:VEVENT
DTSTART;TZID=Asia/Tokyo:20221023T143000
DTEND;TZID=Asia/Tokyo:20221023T163000
DTSTAMP:20260422T010508
CREATED:20220902T021258Z
LAST-MODIFIED:20220915T002221Z
UID:29299-1666535400-1666542600@www.yamagata-npo.jp
SUMMARY:ＮＰＯ勉強会～ＮＰＯ入門編～
DESCRIPTION:チラシのダウンロードはこちらから（PDFデータ） \n申込用紙のダウンロードはこちらから（Wordデータ） \n【オンラインでの参加をご希望の方へ】 \n・講座開催2日前を目安にミーティング参加のご案内をメールにてお送りしますので、申込みの際はメールアドレスを必ずお伝えください。 \n・当センター（center@yamagata-npo.jp）よりＥメールをお送りします。迷惑メールや受信ドメイン指定をされている方はＥメールが受信できるように設定をお願いします。 \n・開催前にあらかじめご使用の端末に「Zoom」をインストールし、マイク・カメラ等の接続テストをお願いします。 \n・その他、参加にあたりご不明な点については当センターへお問い合わせください。 \n【主催・お問い合わせ先】\n山形市市民活動支援センター\n〒990-8580 山形市城南町1-1-1 霞城セントラル22階・23階\nＴＥＬ: 023-647-2260（9:30～22:00）\nＥメール： center*yamagata-npo.jp（*を@に換えてご送信ください） \n
URL:https://www.yamagata-npo.jp/event/29299
LOCATION:山形市市民活動支援センター　会議室B\, 城南町1-1-1　霞城セントラル\, 山形市\, 山形県\, 9908580\, 日本
CATEGORIES:センター主催
ATTACH;FMTTYPE=image/jpeg:https://www.yamagata-npo.jp/wp/wp-content/uploads/R4_10.NPObenkyokai_nyumon.jpg
ORGANIZER;CN="%E5%B1%B1%E5%BD%A2%E5%B8%82%E5%B8%82%E6%B0%91%E6%B4%BB%E5%8B%95%E6%94%AF%E6%8F%B4%E3%82%BB%E3%83%B3%E3%82%BF%E3%83%BC":MAILTO:center@yamagata-npo.jp
END:VEVENT
END:VCALENDAR