BEGIN:VCALENDAR
VERSION:2.0
PRODID:-//山形市市民活動支援センター - ECPv4.6.24.1//NONSGML v1.0//EN
CALSCALE:GREGORIAN
METHOD:PUBLISH
X-WR-CALNAME:山形市市民活動支援センター
X-ORIGINAL-URL:https://www.yamagata-npo.jp
X-WR-CALDESC:Events for 山形市市民活動支援センター
BEGIN:VEVENT
DTSTART;TZID=Asia/Tokyo:20221027T100000
DTEND;TZID=Asia/Tokyo:20221027T120000
DTSTAMP:20260422T034749
CREATED:20220903T021056Z
LAST-MODIFIED:20220903T042859Z
UID:29330-1666864800-1666872000@www.yamagata-npo.jp
SUMMARY:仕事理解セミナー
DESCRIPTION: \n \nチラシはこちらからダウンロードできます（PDF形式） \n
URL:https://www.yamagata-npo.jp/event/29330
LOCATION:ハローワークプラザやまがた内　セミナールーム\, 双葉町1-2-3\, 山形市\, 山形県\, 9900828
CATEGORIES:団体主催
ATTACH;FMTTYPE=image/jpeg:https://www.yamagata-npo.jp/wp/wp-content/uploads/sigotorikai1027-1.jpg
END:VEVENT
END:VCALENDAR