BEGIN:VCALENDAR
VERSION:2.0
PRODID:-//山形市市民活動支援センター - ECPv4.6.24.1//NONSGML v1.0//EN
CALSCALE:GREGORIAN
METHOD:PUBLISH
X-WR-CALNAME:山形市市民活動支援センター
X-ORIGINAL-URL:https://www.yamagata-npo.jp
X-WR-CALDESC:Events for 山形市市民活動支援センター
BEGIN:VEVENT
DTSTART;TZID=Asia/Tokyo:20221020T103000
DTEND;TZID=Asia/Tokyo:20221020T150000
DTSTAMP:20260421T183635
CREATED:20220903T031937Z
LAST-MODIFIED:20220903T031937Z
UID:29346-1666261800-1666278000@www.yamagata-npo.jp
SUMMARY:ＮＰＯ法人のための会計講座・個別相談会（最上開催）
DESCRIPTION: \n \nチラシはこちらからダウンロードできます（PDF形式） \n
URL:https://www.yamagata-npo.jp/event/29346
LOCATION:新庄市エコロジーガーデン　多目的ホール
CATEGORIES:団体主催
ATTACH;FMTTYPE=image/jpeg:https://www.yamagata-npo.jp/wp/wp-content/uploads/R4.10.20_kaikei-kouza_mogami-1.jpg
ORGANIZER;CN="NPO%E6%B3%95%E4%BA%BA%E5%B1%B1%E5%BD%A2%E3%81%AE%E5%85%AC%E7%9B%8A%E6%B4%BB%E5%8B%95%E3%82%92%E5%BF%9C%E6%8F%B4%E3%81%99%E3%82%8B%E4%BC%9A%E3%83%BB%E3%82%A2%E3%83%9F%E3%83%AB":MAILTO:center@yamagata-npo.jp
END:VEVENT
END:VCALENDAR