BEGIN:VCALENDAR
VERSION:2.0
PRODID:-//山形市市民活動支援センター - ECPv4.6.24.1//NONSGML v1.0//EN
CALSCALE:GREGORIAN
METHOD:PUBLISH
X-WR-CALNAME:山形市市民活動支援センター
X-ORIGINAL-URL:https://www.yamagata-npo.jp
X-WR-CALDESC:Events for 山形市市民活動支援センター
BEGIN:VEVENT
DTSTART;TZID=Asia/Tokyo:20221012T140000
DTEND;TZID=Asia/Tokyo:20221012T160000
DTSTAMP:20260422T105054
CREATED:20220914T070048Z
LAST-MODIFIED:20221006T092113Z
UID:29423-1665583200-1665590400@www.yamagata-npo.jp
SUMMARY:第13回　 哲学カフェ　Salon de Yamagata
DESCRIPTION:  \n第13回のテーマは「好き？きらい？」です。\nどなたでもご参加いただけます。\n「好き」と「嫌い」、紙一重のようなこの感情は、いったいどこからくる\nのでしょうか。 \n  \nチラシはこちらからダウンロードできます（PDF） \n
URL:https://www.yamagata-npo.jp/event/29423
LOCATION:山形市市民活動支援センター　ふらっと＋B会議室\, 山形市城南町1-1-1\, 山形市\, 山形県\, 990-8580\, 日本
CATEGORIES:センター主催
ATTACH;FMTTYPE=image/jpeg:https://www.yamagata-npo.jp/wp/wp-content/uploads/ffad76c6a44ecf2da3ecd66b6844f4f5.jpg
END:VEVENT
END:VCALENDAR