BEGIN:VCALENDAR
VERSION:2.0
PRODID:-//山形市市民活動支援センター - ECPv4.6.24.1//NONSGML v1.0//EN
CALSCALE:GREGORIAN
METHOD:PUBLISH
X-WR-CALNAME:山形市市民活動支援センター
X-ORIGINAL-URL:https://www.yamagata-npo.jp
X-WR-CALDESC:Events for 山形市市民活動支援センター
BEGIN:VEVENT
DTSTART;TZID=Asia/Tokyo:20221022T133000
DTEND;TZID=Asia/Tokyo:20221022T153000
DTSTAMP:20260421T234954
CREATED:20220914T063021Z
LAST-MODIFIED:20220914T063228Z
UID:29437-1666445400-1666452600@www.yamagata-npo.jp
SUMMARY:ちがいがわかる男のコーヒー講座vol.7
DESCRIPTION: \nチラシはこちらからダウンロードできます（PDF形式） \n
URL:https://www.yamagata-npo.jp/event/29437
LOCATION:朝日町西部公民館　ホール\, 朝日町常盤に519-7\, 西村山郡\, 山形県\, 9901552\, 日本
CATEGORIES:団体主催
ATTACH;FMTTYPE=image/jpeg:https://www.yamagata-npo.jp/wp/wp-content/uploads/f880f85dd46fe1568926a29990642b2f.jpg
ORGANIZER;CN="%E3%83%81%E3%82%A7%E3%83%AA%E3%82%A2%E5%A1%BE%E3%83%8D%E3%83%83%E3%83%88%E3%83%AF%E3%83%BC%E3%82%AF%E6%9D%91%E5%B1%B1%E3%83%BB%E5%B1%B1%E5%BD%A2%E7%9C%8C%E7%94%B7%E5%A5%B3%E5%85%B1%E5%90%8C%E5%8F%82%E7%94%BB%E3%82%BB%E3%83%B3%E3%82%BF%E3%83%BC%EF%BD%A2%E3%83%81%E3%82%A7%E3%83%AA%E3%82%A2%EF%BD%A3":MAILTO:kikaku2@yamagata-cheria.org
END:VEVENT
END:VCALENDAR