BEGIN:VCALENDAR
VERSION:2.0
PRODID:-//山形市市民活動支援センター - ECPv4.6.24.1//NONSGML v1.0//EN
CALSCALE:GREGORIAN
METHOD:PUBLISH
X-WR-CALNAME:山形市市民活動支援センター
X-ORIGINAL-URL:https://www.yamagata-npo.jp
X-WR-CALDESC:Events for 山形市市民活動支援センター
BEGIN:VEVENT
DTSTART;TZID=Asia/Tokyo:20221015T100000
DTEND;TZID=Asia/Tokyo:20221015T170000
DTSTAMP:20260422T045616
CREATED:20220921T093144Z
LAST-MODIFIED:20220921T093144Z
UID:29492-1665828000-1665853200@www.yamagata-npo.jp
SUMMARY:知って学んですぐ行動 みんなでつなぐ環境やまがた　令和4年やまがた環境展
DESCRIPTION: \n \nチラシはこちらからダウンロードできます \n
URL:https://www.yamagata-npo.jp/event/29492
LOCATION:山形国際交流プラザ（山形ビッグウイング）
CATEGORIES:団体主催
ATTACH;FMTTYPE=image/jpeg:https://www.yamagata-npo.jp/wp/wp-content/uploads/ae8d50dfe4ee998f635e0f1cc6c18cb9.jpg
END:VEVENT
END:VCALENDAR