BEGIN:VCALENDAR
VERSION:2.0
PRODID:-//山形市市民活動支援センター - ECPv4.6.24.1//NONSGML v1.0//EN
CALSCALE:GREGORIAN
METHOD:PUBLISH
X-WR-CALNAME:山形市市民活動支援センター
X-ORIGINAL-URL:https://www.yamagata-npo.jp
X-WR-CALDESC:Events for 山形市市民活動支援センター
BEGIN:VEVENT
DTSTART;TZID=Asia/Tokyo:20221020T100000
DTEND;TZID=Asia/Tokyo:20221020T160000
DTSTAMP:20260421T155111
CREATED:20220921T095259Z
LAST-MODIFIED:20220921T095259Z
UID:29502-1666260000-1666281600@www.yamagata-npo.jp
SUMMARY:やまがた女性キャリアアップセミナー  ～ キャリアアップに必要なスキルを職場で活用できるようになる ～
DESCRIPTION: \n \nチラシはこちらからダウンロードできます \n
URL:https://www.yamagata-npo.jp/event/29502
LOCATION:山形県生涯学習センター　遊学館　3階　第1研修室\, 山形市緑町1丁目2－36
CATEGORIES:団体主催
ATTACH;FMTTYPE=image/jpeg:https://www.yamagata-npo.jp/wp/wp-content/uploads/fbda14c0cfc303eee1c3dfec2f3b0bcb.jpg
ORGANIZER;CN="%E5%B1%B1%E5%BD%A2%E7%9C%8C%E7%94%B7%E5%A5%B3%E5%85%B1%E5%90%8C%E5%8F%82%E7%94%BB%E3%82%BB%E3%83%B3%E3%82%BF%E3%83%BC%E3%80%80%E3%83%81%E3%82%A7%E3%83%AA%E3%82%A2":MAILTO:kikaku2@yamagata-cheria.org
END:VEVENT
END:VCALENDAR