BEGIN:VCALENDAR
VERSION:2.0
PRODID:-//山形市市民活動支援センター - ECPv4.6.24.1//NONSGML v1.0//EN
CALSCALE:GREGORIAN
METHOD:PUBLISH
X-WR-CALNAME:山形市市民活動支援センター
X-ORIGINAL-URL:https://www.yamagata-npo.jp
X-WR-CALDESC:Events for 山形市市民活動支援センター
BEGIN:VEVENT
DTSTART;TZID=Asia/Tokyo:20221015T130000
DTEND;TZID=Asia/Tokyo:20221015T154000
DTSTAMP:20260422T034728
CREATED:20220929T073127Z
LAST-MODIFIED:20220929T073127Z
UID:29545-1665838800-1665848400@www.yamagata-npo.jp
SUMMARY:「エコカップやまがた2022 ～カーボンニュートラルやまがたを目指して～」
DESCRIPTION: \n \nチラシはこちらからダウンロードできます（PDF形式） \n
URL:https://www.yamagata-npo.jp/event/29545
LOCATION:山形ビッグウイング　２F交流サロン\, 山形市平久保100\, 山形市\, 山形県\, 990-0076\, 日本
CATEGORIES:団体主催
ATTACH;FMTTYPE=image/jpeg:https://www.yamagata-npo.jp/wp/wp-content/uploads/chirashi1015-1.jpg
END:VEVENT
END:VCALENDAR