BEGIN:VCALENDAR
VERSION:2.0
PRODID:-//山形市市民活動支援センター - ECPv4.6.24.1//NONSGML v1.0//EN
CALSCALE:GREGORIAN
METHOD:PUBLISH
X-WR-CALNAME:山形市市民活動支援センター
X-ORIGINAL-URL:https://www.yamagata-npo.jp
X-WR-CALDESC:Events for 山形市市民活動支援センター
BEGIN:VEVENT
DTSTART;TZID=Asia/Tokyo:20221102T190000
DTEND;TZID=Asia/Tokyo:20221102T210000
DTSTAMP:20260422T191013
CREATED:20220929T074208Z
LAST-MODIFIED:20220929T074551Z
UID:29557-1667415600-1667422800@www.yamagata-npo.jp
SUMMARY:Girls Fun Meeting in Yamagata 「自分のからだを知ろう、守ろう」前夜祭
DESCRIPTION:チラシはこちらからダウンロードできます。（PDF) \n
URL:https://www.yamagata-npo.jp/event/29557
CATEGORIES:団体主催
ATTACH;FMTTYPE=image/jpeg:https://www.yamagata-npo.jp/wp/wp-content/uploads/221103.jpg
END:VEVENT
END:VCALENDAR