BEGIN:VCALENDAR
VERSION:2.0
PRODID:-//山形市市民活動支援センター - ECPv4.6.24.1//NONSGML v1.0//EN
CALSCALE:GREGORIAN
METHOD:PUBLISH
X-WR-CALNAME:山形市市民活動支援センター
X-ORIGINAL-URL:https://www.yamagata-npo.jp
X-WR-CALDESC:Events for 山形市市民活動支援センター
BEGIN:VEVENT
DTSTART;TZID=Asia/Tokyo:20221029T140000
DTEND;TZID=Asia/Tokyo:20221029T160000
DTSTAMP:20260422T131756
CREATED:20221007T075856Z
LAST-MODIFIED:20221007T075856Z
UID:29675-1667052000-1667059200@www.yamagata-npo.jp
SUMMARY:女性のエンパワメント講座
DESCRIPTION:  \n \nこのチラシはこちらからダウンロードできます（pdf形式） \n
URL:https://www.yamagata-npo.jp/event/29675
LOCATION:山形県男女共同参画センター「チェリア」学習室\, 山形市緑町1-2-36
CATEGORIES:団体主催
ATTACH;FMTTYPE=image/jpeg:https://www.yamagata-npo.jp/wp/wp-content/uploads/20221007161010.jpg
ORGANIZER;CN="%E3%82%AF%E3%83%AD%E3%83%BC%E3%83%90%E3%83%BC%E3%81%AE%E4%BC%9A%E3%82%A2%E3%83%83%E3%83%88%E3%82%84%E3%81%BE%E3%81%8C%E3%81%9F":MAILTO:josei.clover@gmail.com
END:VEVENT
END:VCALENDAR