BEGIN:VCALENDAR
VERSION:2.0
PRODID:-//山形市市民活動支援センター - ECPv4.6.24.1//NONSGML v1.0//EN
CALSCALE:GREGORIAN
METHOD:PUBLISH
X-WR-CALNAME:山形市市民活動支援センター
X-ORIGINAL-URL:https://www.yamagata-npo.jp
X-WR-CALDESC:Events for 山形市市民活動支援センター
BEGIN:VEVENT
DTSTART;TZID=Asia/Tokyo:20221016T100000
DTEND;TZID=Asia/Tokyo:20221016T120000
DTSTAMP:20260421T212757
CREATED:20221012T083336Z
LAST-MODIFIED:20221012T083336Z
UID:29691-1665914400-1665921600@www.yamagata-npo.jp
SUMMARY:絵本作家　長野ヒデ子氏講演会「絵本と紙芝居はごはんです」
DESCRIPTION: \nチラシはこちらからダウンロード出来ます（PDF形式） \n
URL:https://www.yamagata-npo.jp/event/29691
LOCATION:文翔館　議場ホール\, 山形市旅籠町3丁目4-51\, 山形市\, 山形県\, 9900047\, 日本
CATEGORIES:団体主催
ATTACH;FMTTYPE=image/jpeg:https://www.yamagata-npo.jp/wp/wp-content/uploads/536908ba7898fc3566a3245e108bd39f.jpg
ORGANIZER;CN="%E5%B1%B1%E5%BD%A2%E7%9C%8C%E7%AB%8B%E5%9B%B3%E6%9B%B8%E9%A4%A8%E3%83%BB%E5%B1%B1%E5%BD%A2%E5%B8%82%E7%AB%8B%E5%9B%B3%E6%9B%B8%E9%A4%A8%E5%8D%94%E5%83%8D%E9%96%8B%E5%82%AC":MAILTO:toshokan＠city.yamagata-yamagata.lg.jp
END:VEVENT
END:VCALENDAR