BEGIN:VCALENDAR
VERSION:2.0
PRODID:-//山形市市民活動支援センター - ECPv4.6.24.1//NONSGML v1.0//EN
CALSCALE:GREGORIAN
METHOD:PUBLISH
X-WR-CALNAME:山形市市民活動支援センター
X-ORIGINAL-URL:https://www.yamagata-npo.jp
X-WR-CALDESC:Events for 山形市市民活動支援センター
BEGIN:VEVENT
DTSTART;TZID=Asia/Tokyo:20230608T133000
DTEND;TZID=Asia/Tokyo:20230608T153000
DTSTAMP:20260420T175834
CREATED:20230406T052206Z
LAST-MODIFIED:20230425T065309Z
UID:31231-1686231000-1686238200@www.yamagata-npo.jp
SUMMARY:Ｚｏｏｍの使い方講座　オンライン（Zoom）を体験してみませんか？　全３回　第２回「基本編」
DESCRIPTION: \nチラシはこちらからダウンロードできます（PDF形式） \n  \n  \n
URL:https://www.yamagata-npo.jp/event/31231
LOCATION:山形市市民活動支援センター　会議室B\, 城南町1-1-1　霞城セントラル\, 山形市\, 山形県\, 9908580\, 日本
CATEGORIES:センター主催
ATTACH;FMTTYPE=image/jpeg:https://www.yamagata-npo.jp/wp/wp-content/uploads/01747caa4d0e75130c448a9e208d070c.jpg
END:VEVENT
END:VCALENDAR