BEGIN:VCALENDAR
VERSION:2.0
PRODID:-//山形市市民活動支援センター - ECPv4.6.24.1//NONSGML v1.0//EN
CALSCALE:GREGORIAN
METHOD:PUBLISH
X-WR-CALNAME:山形市市民活動支援センター
X-ORIGINAL-URL:https://www.yamagata-npo.jp
X-WR-CALDESC:Events for 山形市市民活動支援センター
BEGIN:VEVENT
DTSTART;TZID=Asia/Tokyo:20230610T103000
DTEND;TZID=Asia/Tokyo:20230610T123000
DTSTAMP:20260420T145106
CREATED:20230507T014040Z
LAST-MODIFIED:20230507T014157Z
UID:31479-1686393000-1686400200@www.yamagata-npo.jp
SUMMARY:陶芸ワークショップ　うちカフェを楽しむカップ＆ソーサー（全２回）
DESCRIPTION:詳しくはこちらからご覧いただけます \n
URL:https://www.yamagata-npo.jp/event/31479
LOCATION:まなびあテラス
CATEGORIES:団体主催
ATTACH;FMTTYPE=image/jpeg:https://www.yamagata-npo.jp/wp/wp-content/uploads/20230507102625-2.jpg
END:VEVENT
END:VCALENDAR