BEGIN:VCALENDAR
VERSION:2.0
PRODID:-//山形市市民活動支援センター - ECPv4.6.24.1//NONSGML v1.0//EN
CALSCALE:GREGORIAN
METHOD:PUBLISH
X-WR-CALNAME:山形市市民活動支援センター
X-ORIGINAL-URL:https://www.yamagata-npo.jp
X-WR-CALDESC:Events for 山形市市民活動支援センター
BEGIN:VEVENT
DTSTART;TZID=Asia/Tokyo:20240819T110000
DTEND;TZID=Asia/Tokyo:20240823T150000
DTSTAMP:20260419T192354
CREATED:20240605T092911Z
LAST-MODIFIED:20240605T092911Z
UID:36968-1724065200-1724425200@www.yamagata-npo.jp
SUMMARY:見えない人がAIで描いたイラスト展　あい（AI）のあるアート展
DESCRIPTION:チラシはこちらからダウンロード出来ます（PDF形式） \n
URL:https://www.yamagata-npo.jp/event/36968
LOCATION:Gallery＆Cafeあるあーる\, 大字西根字上川原42番地\, 寒河江市\, 山形県\, Japan
GEO:38.3962146;140.2819046
X-APPLE-STRUCTURED-LOCATION;VALUE=URI;X-ADDRESS=Gallery＆Cafeあるあーる 大字西根字上川原42番地 寒河江市 山形県 Japan;X-APPLE-RADIUS=500;X-TITLE=大字西根字上川原42番地:geo:140.2819046,38.3962146
CATEGORIES:団体主催
ATTACH;FMTTYPE=image/png:https://www.yamagata-npo.jp/wp/wp-content/uploads/20240605173009.png
END:VEVENT
END:VCALENDAR