BEGIN:VCALENDAR
VERSION:2.0
PRODID:-//山形市市民活動支援センター - ECPv4.6.24.1//NONSGML v1.0//EN
CALSCALE:GREGORIAN
METHOD:PUBLISH
X-WR-CALNAME:山形市市民活動支援センター
X-ORIGINAL-URL:https://www.yamagata-npo.jp
X-WR-CALDESC:Events for 山形市市民活動支援センター
BEGIN:VEVENT
DTSTART;TZID=Asia/Tokyo:20240824T103000
DTEND;TZID=Asia/Tokyo:20240824T123000
DTSTAMP:20260420T004304
CREATED:20240709T024758Z
LAST-MODIFIED:20240709T024758Z
UID:37770-1724495400-1724502600@www.yamagata-npo.jp
SUMMARY:陶芸講座　しのぎの器・カップ＆ソーサー（全２回）
DESCRIPTION:詳しくはこちらからご覧いただけます \n
URL:https://www.yamagata-npo.jp/event/37770
LOCATION:まなびあテラス
CATEGORIES:団体主催
ATTACH;FMTTYPE=application/pdf:https://www.yamagata-npo.jp/wp/wp-content/uploads/20240709103846-2-3.pdf
END:VEVENT
END:VCALENDAR