BEGIN:VCALENDAR
VERSION:2.0
PRODID:-//山形市市民活動支援センター - ECPv4.6.24.1//NONSGML v1.0//EN
CALSCALE:GREGORIAN
METHOD:PUBLISH
X-WR-CALNAME:山形市市民活動支援センター
X-ORIGINAL-URL:https://www.yamagata-npo.jp
X-WR-CALDESC:Events for 山形市市民活動支援センター
BEGIN:VEVENT
DTSTART;TZID=Asia/Tokyo:20241117T130000
DTEND;TZID=Asia/Tokyo:20241117T130000
DTSTAMP:20260419T211054
CREATED:20240828T020533Z
LAST-MODIFIED:20240908T063909Z
UID:38761-1731848400-1731848400@www.yamagata-npo.jp
SUMMARY:～あなたの想いが命をつなぐ～「いち逢い」でドナー倍増プロジェクト
DESCRIPTION: \n  \nチラシはこちらからダウンロードできます（PDF） \n
URL:https://www.yamagata-npo.jp/event/38761
LOCATION:伝国の社\, 丸の内1丁目2-1\, 米沢市\, 山形県\, 9920052\, 日本
CATEGORIES:団体主催
ATTACH;FMTTYPE=image/jpeg:https://www.yamagata-npo.jp/wp/wp-content/uploads/ad007d3779afa78b9eadc561af0729ab.jpg
ORGANIZER;CN="%E9%AA%A8%E9%AB%84%E3%83%90%E3%83%B3%E3%82%AF%E3%82%92%E6%94%AF%E6%8F%B4%E3%81%99%E3%82%8B%E3%82%84%E3%81%BE%E3%81%8C%E3%81%9F%E3%81%AE%E4%BC%9A":MAILTO:825mamo@gmail.com
END:VEVENT
END:VCALENDAR