BEGIN:VCALENDAR
VERSION:2.0
PRODID:-//山形市市民活動支援センター - ECPv4.6.24.1//NONSGML v1.0//EN
CALSCALE:GREGORIAN
METHOD:PUBLISH
X-WR-CALNAME:山形市市民活動支援センター
X-ORIGINAL-URL:https://www.yamagata-npo.jp
X-WR-CALDESC:Events for 山形市市民活動支援センター
BEGIN:VEVENT
DTSTART;TZID=Asia/Tokyo:20241012T133000
DTEND;TZID=Asia/Tokyo:20241012T153000
DTSTAMP:20260420T004048
CREATED:20240914T012338Z
LAST-MODIFIED:20240914T012338Z
UID:39217-1728739800-1728747000@www.yamagata-npo.jp
SUMMARY:ミドルとシニアの集い　お徳カフェ
DESCRIPTION:チラシのダウンロードはこちらから（PDF） \n
URL:https://www.yamagata-npo.jp/event/39217
LOCATION:生活塾\, 城西町5-1-7\, 山形市\, 山形県\, 9900832\, 日本
CATEGORIES:団体主催
ATTACH;FMTTYPE=image/jpeg:https://www.yamagata-npo.jp/wp/wp-content/uploads/1be1727766c9a13bb6590b4d03759bf2.jpg
END:VEVENT
END:VCALENDAR