BEGIN:VCALENDAR
VERSION:2.0
PRODID:-//山形市市民活動支援センター - ECPv4.6.24.1//NONSGML v1.0//EN
CALSCALE:GREGORIAN
METHOD:PUBLISH
X-WR-CALNAME:山形市市民活動支援センター
X-ORIGINAL-URL:https://www.yamagata-npo.jp
X-WR-CALDESC:Events for 山形市市民活動支援センター
BEGIN:VEVENT
DTSTART;TZID=Asia/Tokyo:20241014T100000
DTEND;TZID=Asia/Tokyo:20241014T140000
DTSTAMP:20260419T182324
CREATED:20240918T052528Z
LAST-MODIFIED:20240918T052947Z
UID:39263-1728900000-1728914400@www.yamagata-npo.jp
SUMMARY:由良海岸 de スポーツ！
DESCRIPTION:  \n  \nこのチラシはこちらからダウンロードください。（pdf形式） \n
URL:https://www.yamagata-npo.jp/event/39263
LOCATION:由良海岸\, 山形県由良海岸\, 999-7464
CATEGORIES:団体主催
ATTACH;FMTTYPE=image/jpeg:https://www.yamagata-npo.jp/wp/wp-content/uploads/f1201a3b8f1ee2eac0cd5e321606fa29-scaled.jpg
END:VEVENT
END:VCALENDAR