BEGIN:VCALENDAR
VERSION:2.0
PRODID:-//山形市市民活動支援センター - ECPv4.6.24.1//NONSGML v1.0//EN
CALSCALE:GREGORIAN
METHOD:PUBLISH
X-WR-CALNAME:山形市市民活動支援センター
X-ORIGINAL-URL:https://www.yamagata-npo.jp
X-WR-CALDESC:Events for 山形市市民活動支援センター
BEGIN:VEVENT
DTSTART;TZID=Asia/Tokyo:20241014T100000
DTEND;TZID=Asia/Tokyo:20241014T120000
DTSTAMP:20260419T164216
CREATED:20240918T053717Z
LAST-MODIFIED:20240919T014307Z
UID:39278-1728900000-1728907200@www.yamagata-npo.jp
SUMMARY:山形大学生協学生委員会プレゼンツ　スポGOMI大会
DESCRIPTION:  \n  \nこのチラシはこちらからダウンロードください。（J-peg画像） \n
URL:https://www.yamagata-npo.jp/event/39278
LOCATION:由良海岸\, 山形県由良海岸\, 999-7464
CATEGORIES:団体主催
ATTACH;FMTTYPE=image/png:https://www.yamagata-npo.jp/wp/wp-content/uploads/6edbf1d11dae9fc6595f20020f910986.png
END:VEVENT
END:VCALENDAR